BEGIN:VCALENDAR
VERSION:2.0
PRODID:Events Booking
BEGIN:VEVENT
UID:69e6e94550bf8
SUMMARY:Corporate Fasting
DESCRIPTION:Come join us for the Corporate Fasting and Prayer\, and witness
  healings\, deliverance and breakthroughs for your own life and for those 
 we travail in fasting and prayer.
LOCATION:68 Lorong 16 Geylang\, #04-05\, Association Building\, Singapore 3
 98889
DTSTART:20231113T013000Z
DTEND:20231113T033000Z
DTSTAMP:20230130T213738Z
ORGANIZER:MAILTO:noreply@sgcharismatic.sg
GEO:1.310458;103.879934
X-APPLE-STRUCTURED-LOCATION;VALUE=URI;X-ADDRESS=68 Lorong 16 Geylang\, #04-
 05\, Association Building\, Singapore 398889;X-APPLE-RADIUS=72;X-TITLE=Sin
 gapore Charismatic Church:1.310458;103.879934
END:VEVENT
END:VCALENDAR