BEGIN:VCALENDAR
VERSION:2.0
PRODID:Events Booking
BEGIN:VEVENT
UID:69eb67c9b50a9
SUMMARY:Weekly Lunch Fellowship
DESCRIPTION:
LOCATION:68 Lorong 16 Geylang\, #04-05\, Association Building\, Singapore 3
 98889
DTSTART:20260103T160000Z
DTEND:20261226T160000Z
DTSTAMP:20251222T003031Z
ORGANIZER:MAILTO:noreply@sgcharismatic.sg
GEO:1.310458;103.879934
X-APPLE-STRUCTURED-LOCATION;VALUE=URI;X-ADDRESS=68 Lorong 16 Geylang\, #04-
 05\, Association Building\, Singapore 398889;X-APPLE-RADIUS=72;X-TITLE=Sin
 gapore Charismatic Church:1.310458;103.879934
END:VEVENT
END:VCALENDAR