BEGIN:VCALENDAR
VERSION:2.0
PRODID:Events Booking
BEGIN:VEVENT
UID:69eb67f906dc0
SUMMARY:Children & Youth events
DESCRIPTION:
DTSTART:20260616T160000Z
DTEND:20260616T160000Z
DTSTAMP:20230130T231121Z
ORGANIZER:MAILTO:noreply@sgcharismatic.sg
END:VEVENT
END:VCALENDAR