BEGIN:VCALENDAR
VERSION:2.0
PRODID:Events Booking
BEGIN:VEVENT
UID:69eb6955df5c7
SUMMARY:Baptism-cum-Outing
DESCRIPTION:
DTSTART:20260809T160000Z
DTEND:20260809T160000Z
DTSTAMP:20230130T231121Z
ORGANIZER:MAILTO:noreply@sgcharismatic.sg
END:VEVENT
END:VCALENDAR